BEGIN:VCALENDAR
VERSION:2.0
PRODID:-//Sally Milner Publishing - ECPv6.15.11//NONSGML v1.0//EN
CALSCALE:GREGORIAN
METHOD:PUBLISH
X-WR-CALNAME:Sally Milner Publishing
X-ORIGINAL-URL:https://sallymilner.com.au
X-WR-CALDESC:Events for Sally Milner Publishing
REFRESH-INTERVAL;VALUE=DURATION:PT1H
X-Robots-Tag:noindex
X-PUBLISHED-TTL:PT1H
BEGIN:VTIMEZONE
TZID:Australia/Sydney
BEGIN:STANDARD
TZOFFSETFROM:+1100
TZOFFSETTO:+1000
TZNAME:AEST
DTSTART:20210403T160000
END:STANDARD
BEGIN:DAYLIGHT
TZOFFSETFROM:+1000
TZOFFSETTO:+1100
TZNAME:AEDT
DTSTART:20211002T160000
END:DAYLIGHT
BEGIN:STANDARD
TZOFFSETFROM:+1100
TZOFFSETTO:+1000
TZNAME:AEST
DTSTART:20220402T160000
END:STANDARD
BEGIN:DAYLIGHT
TZOFFSETFROM:+1000
TZOFFSETTO:+1100
TZNAME:AEDT
DTSTART:20221001T160000
END:DAYLIGHT
BEGIN:STANDARD
TZOFFSETFROM:+1100
TZOFFSETTO:+1000
TZNAME:AEST
DTSTART:20230401T160000
END:STANDARD
BEGIN:DAYLIGHT
TZOFFSETFROM:+1000
TZOFFSETTO:+1100
TZNAME:AEDT
DTSTART:20230930T160000
END:DAYLIGHT
END:VTIMEZONE
BEGIN:VEVENT
DTSTART;VALUE=DATE:20221110
DTEND;VALUE=DATE:20221114
DTSTAMP:20260426T095135
CREATED:20220816T224726Z
LAST-MODIFIED:20220816T224726Z
UID:8804-1668038400-1668383999@sallymilner.com.au
SUMMARY:Australian Machine Quilting Festival
DESCRIPTION:The Australian Machine Quilting Festival is dedicated to providing inspiration\, education and encouragement to all machine quilters that own a longarm\, midarm and/or a domestic sewing machine. \nCome & join us in our venture to grow and learn about machine quilting! \n2022 is the sixth Australian Machine Quilting Festival. We continue to grow and evolve\, but will always have education as a priority along with meeting many new friends and quilters. \nWe are looking forward to AMQ Festival 2022 with great anticipation and hope to see both past attendees and new ones as well. We are working very hard to make this an incredible event and encourage quilters of all disciplines to come along\, be inspired and embrace all that this fantastic industry has to offer. \nDue to the ever changing health advice in regards to events and gatherings in Australia\, please ensure to contact the organiser prior to the event for the latest information and advice.
URL:https://sallymilner.com.au/event/australian-machine-quilting-festival/
LOCATION:Adelaide Convention Centre\, North Terrace\, Adelaide\, South Australia\, 5000\, Australia
ATTACH;FMTTYPE=image/jpeg:https://sallymilner.com.au/wp-content/uploads/2021/09/AMQF-logo-e1645496609866.jpg
END:VEVENT
END:VCALENDAR