BEGIN:VCALENDAR
VERSION:2.0
PRODID:-//Sally Milner Publishing - ECPv6.15.11//NONSGML v1.0//EN
CALSCALE:GREGORIAN
METHOD:PUBLISH
X-ORIGINAL-URL:https://sallymilner.com.au
X-WR-CALDESC:Events for Sally Milner Publishing
REFRESH-INTERVAL;VALUE=DURATION:PT1H
X-Robots-Tag:noindex
X-PUBLISHED-TTL:PT1H
BEGIN:VTIMEZONE
TZID:Australia/Sydney
BEGIN:STANDARD
TZOFFSETFROM:+1100
TZOFFSETTO:+1000
TZNAME:AEST
DTSTART:20210403T160000
END:STANDARD
BEGIN:DAYLIGHT
TZOFFSETFROM:+1000
TZOFFSETTO:+1100
TZNAME:AEDT
DTSTART:20211002T160000
END:DAYLIGHT
BEGIN:STANDARD
TZOFFSETFROM:+1100
TZOFFSETTO:+1000
TZNAME:AEST
DTSTART:20220402T160000
END:STANDARD
BEGIN:DAYLIGHT
TZOFFSETFROM:+1000
TZOFFSETTO:+1100
TZNAME:AEDT
DTSTART:20221001T160000
END:DAYLIGHT
BEGIN:STANDARD
TZOFFSETFROM:+1100
TZOFFSETTO:+1000
TZNAME:AEST
DTSTART:20230401T160000
END:STANDARD
BEGIN:DAYLIGHT
TZOFFSETFROM:+1000
TZOFFSETTO:+1100
TZNAME:AEDT
DTSTART:20230930T160000
END:DAYLIGHT
END:VTIMEZONE
BEGIN:VEVENT
DTSTART;VALUE=DATE:20221012
DTEND;VALUE=DATE:20221017
DTSTAMP:20260426T113206
CREATED:20220215T041924Z
LAST-MODIFIED:20220315T224150Z
UID:8779-1665532800-1665964799@sallymilner.com.au
SUMMARY:Brisbane Craft & Quilt Fair 2022
DESCRIPTION:The Brisbane Craft & Quilt Fair will be open from 12th to 16th October 2022. If you’re into craft or would like to be\, the fair is the place to see what’s possible and to find the latest products for knitting\, crochet\, quilting\, papercraft\, weaving\, jewellery making\, sewing\, art and many more crafts. Each day there are demonstrations and learning sessions to give you crafty know-how and learn to use new products. Find new designs\, patterns\, books and materials to use in your next project – and have a great day out with people who share your passion. \nVisit www.craftfair.com.au/wp/Brisbane/ for more information. \nDue to the ever changing health advice in regards to events and gatherings in Australia\, please ensure to contact the organiser prior to the event for the latest information and advice.
URL:https://sallymilner.com.au/event/brisbane-craft-quilt-fair-2022/
LOCATION:Brisbane Convention Centre\, Glenelg Street\, South Brisbane\, Queensland\, 4101\, Australia
ATTACH;FMTTYPE=image/png:https://sallymilner.com.au/wp-content/uploads/2022/03/craftandquiltfair-logo.png
END:VEVENT
END:VCALENDAR