BEGIN:VCALENDAR
VERSION:2.0
PRODID:-//Sally Milner Publishing - ECPv6.15.11//NONSGML v1.0//EN
CALSCALE:GREGORIAN
METHOD:PUBLISH
X-ORIGINAL-URL:https://sallymilner.com.au
X-WR-CALDESC:Events for Sally Milner Publishing
REFRESH-INTERVAL;VALUE=DURATION:PT1H
X-Robots-Tag:noindex
X-PUBLISHED-TTL:PT1H
BEGIN:VTIMEZONE
TZID:Australia/Sydney
BEGIN:STANDARD
TZOFFSETFROM:+1100
TZOFFSETTO:+1000
TZNAME:AEST
DTSTART:20240406T160000
END:STANDARD
BEGIN:DAYLIGHT
TZOFFSETFROM:+1000
TZOFFSETTO:+1100
TZNAME:AEDT
DTSTART:20241005T160000
END:DAYLIGHT
BEGIN:STANDARD
TZOFFSETFROM:+1100
TZOFFSETTO:+1000
TZNAME:AEST
DTSTART:20250405T160000
END:STANDARD
BEGIN:DAYLIGHT
TZOFFSETFROM:+1000
TZOFFSETTO:+1100
TZNAME:AEDT
DTSTART:20251004T160000
END:DAYLIGHT
BEGIN:STANDARD
TZOFFSETFROM:+1100
TZOFFSETTO:+1000
TZNAME:AEST
DTSTART:20260404T160000
END:STANDARD
BEGIN:DAYLIGHT
TZOFFSETFROM:+1000
TZOFFSETTO:+1100
TZNAME:AEDT
DTSTART:20261003T160000
END:DAYLIGHT
BEGIN:STANDARD
TZOFFSETFROM:+1100
TZOFFSETTO:+1000
TZNAME:AEST
DTSTART:20270403T160000
END:STANDARD
BEGIN:DAYLIGHT
TZOFFSETFROM:+1000
TZOFFSETTO:+1100
TZNAME:AEDT
DTSTART:20271002T160000
END:DAYLIGHT
END:VTIMEZONE
BEGIN:VEVENT
DTSTART;VALUE=DATE:20250710
DTEND;VALUE=DATE:20250726
DTSTAMP:20260425T001542
CREATED:20250612T014943Z
LAST-MODIFIED:20250612T014943Z
UID:8927-1752105600-1753487999@sallymilner.com.au
SUMMARY:Craft Alive - LIVE
DESCRIPTION:Love craft\, love CraftAlive. Join the global community of craft lovers. Learn\, connect and be inspired. \nCraftAlive: LIVE (formally known as GICS – Great International Craft Show)\n10 – 12 July 2025 (AEDT) \nCraftAlive: LIVE will transport you into a wonderful range of retailers\, education and inspiration all online for you. Watch exclusive interviews\, shop tours\, event specials\, details of new products PLUS contact details to get in touch and shop! The online shopping hall is free to enter\, but only open on event days! \nSubscribe to the CraftAlive Youtube channel now to keep up to date with events\, education and craft news. https://www.youtube.com/@greatinternationalcraftshow \n#lovecraftlovecraftalive
URL:https://sallymilner.com.au/event/craft-alive-live/
LOCATION:NSW
ATTACH;FMTTYPE=image/jpeg:https://sallymilner.com.au/wp-content/uploads/2019/11/craft-alive.jpg
END:VEVENT
BEGIN:VEVENT
DTSTART;VALUE=DATE:20250711
DTEND;VALUE=DATE:20250714
DTSTAMP:20260425T001542
CREATED:20250612T015949Z
LAST-MODIFIED:20250612T015949Z
UID:8929-1752192000-1752451199@sallymilner.com.au
SUMMARY:Craft Alive - Stitches and Craft Show Adelaide
DESCRIPTION:CraftAlive Adelaide is a hands-on event. A chance to learn from world class specialists with interactive classes on Friday\, Saturday and Sunday. \nPlease note\, entry tickets are not day specific\, however class bookings are day and time specific. CraftAlive recommends booking ahead to secure your spot. \nCraftAlive proudly working alongside SA Quilters to present the Festival of Quilts 2025 with a Christmas in July theme.  \nKits\, supplies and equipment\, with ample venue parking and easy access. \nDue to the ever changing health advice in regards to events and gatherings in Australia\, please ensure to contact the organiser prior to the event for the latest information and advice.
URL:https://sallymilner.com.au/event/craft-alive-stitches-and-craft-show-adelaide/
LOCATION:Adelaide Showground\, Jubilee Pavilion\, Hamilton Bvd\, Wayville\, South Australia\, 5034\, Australia
ATTACH;FMTTYPE=image/jpeg:https://sallymilner.com.au/wp-content/uploads/2019/11/craft-alive.jpg
END:VEVENT
BEGIN:VEVENT
DTSTART;VALUE=DATE:20250731
DTEND;VALUE=DATE:20250804
DTSTAMP:20260425T001542
CREATED:20210203T233659Z
LAST-MODIFIED:20250612T035358Z
UID:8621-1753920000-1754265599@sallymilner.com.au
SUMMARY:Craft Alive - Craft Fair Perth
DESCRIPTION:CraftAlive Perth is a chance to learn from world class specialists with interactive classes on Thursday\, Friday\, Saturday and Sunday.\nPlease note\, entry tickets are not day specific\, however class bookings are day and time specific. CraftAlive recommends booking ahead to secure your spot. \nCraftAlive Perth proudly presents WA Quilters Quilt West 2025 exhibition\, with the special category theme of ‘Doors’.  \nCraftAlive Perth also proudly presents the Woodturners Association of Western Australia Major Annual Woodturning Open Competition and Exhibition – 40th Anniversary! \nDue to the ever changing health advice in regards to events and gatherings in Australia\, please ensure to contact the organiser prior to the event for the latest information and advice.
URL:https://sallymilner.com.au/event/craft-alive-perth/
LOCATION:Claremont Showground\, 1 Graylands Road\, Claremont\, WA\, 6010\, Australia
ATTACH;FMTTYPE=image/jpeg:https://sallymilner.com.au/wp-content/uploads/2019/11/craft-alive.jpg
END:VEVENT
BEGIN:VEVENT
DTSTART;VALUE=DATE:20250814
DTEND;VALUE=DATE:20250817
DTSTAMP:20260425T001542
CREATED:20250612T040009Z
LAST-MODIFIED:20250612T040009Z
UID:8932-1755129600-1755388799@sallymilner.com.au
SUMMARY:Craft Alive - Townsville
DESCRIPTION:CraftAlive is coming to Townsville.  \nKits\, supplies and equipment.\nAmple parking. Easy access.\nBUY your entry ticket online now.\nCraftAlive is a hands-on event\, a chance to learn from world class specialists with interactive classes on Thursday\, Friday\, Saturday.\nPlease note\, entry tickets are not day specific\, however class bookings are day and time specific. CraftAlive recommends booking ahead to secure your spot. \nDue to the ever changing health advice in regards to events and gatherings in Australia\, please ensure to contact the organiser prior to the event for the latest information and advice.
URL:https://sallymilner.com.au/event/craft-alive-townsville/
LOCATION:Townsville Sports Precinct\, 24 Burke Street\, North Ward\, Queensland\, 4810\, Australia
ATTACH;FMTTYPE=image/jpeg:https://sallymilner.com.au/wp-content/uploads/2019/11/craft-alive.jpg
END:VEVENT
BEGIN:VEVENT
DTSTART;VALUE=DATE:20250821
DTEND;VALUE=DATE:20250824
DTSTAMP:20260425T001542
CREATED:20250612T040231Z
LAST-MODIFIED:20250612T040231Z
UID:8935-1755734400-1755993599@sallymilner.com.au
SUMMARY:Craft Alive - Rockhampton
DESCRIPTION:CraftAlive is coming to Rockhampton.  \nKits\, supplies and equipment.\nAmple parking. Easy access. \nCraftAlive is a hands-on event\, a chance to learn from world class specialists with interactive classes on Thursday\, Friday\, Saturday.\nPlease note\, entry tickets are not day specific\, however class bookings are day and time specific. CraftAlive recommends booking ahead to secure your spot. \nDue to the ever changing health advice in regards to events and gatherings in Australia\, please ensure to contact the organiser prior to the event for the latest information and advice.
URL:https://sallymilner.com.au/event/craft-alive-rockhampton/
LOCATION:Robert Schwarten Pavilion Indoor\, New Exhibition Rd\, Wandal\, Queensland\, 4700\, Australia
ATTACH;FMTTYPE=image/jpeg:https://sallymilner.com.au/wp-content/uploads/2019/11/craft-alive.jpg
END:VEVENT
BEGIN:VEVENT
DTSTART;VALUE=DATE:20250904
DTEND;VALUE=DATE:20250907
DTSTAMP:20260425T001542
CREATED:20250612T040507Z
LAST-MODIFIED:20250612T040507Z
UID:8938-1756944000-1757203199@sallymilner.com.au
SUMMARY:Craft Alive - Brisbane
DESCRIPTION:CraftAlive is coming to Brisbane.  \nKits\, supplies and equipment.\nAmple parking. Easy access. \nCraftAlive is a hands-on event\, a chance to learn from world class specialists with interactive classes on Thursday\, Friday\, Saturday.\nPlease note\, entry tickets are not day specific\, however class bookings are day and time specific. CraftAlive recommends booking ahead to secure your spot. \nDue to the ever changing health advice in regards to events and gatherings in Australia\, please ensure to contact the organiser prior to the event for the latest information and advice.
URL:https://sallymilner.com.au/event/craft-alive-brisbane/
LOCATION:Exhibition Building\, Brisbane Showgrounds\, 600 Gregory Terrace\, Bowen Hills\, Queensland\, 4006\, Australia
ATTACH;FMTTYPE=image/jpeg:https://sallymilner.com.au/wp-content/uploads/2019/11/craft-alive.jpg
END:VEVENT
BEGIN:VEVENT
DTSTART;VALUE=DATE:20251002
DTEND;VALUE=DATE:20251005
DTSTAMP:20260425T001542
CREATED:20250612T040915Z
LAST-MODIFIED:20250612T040915Z
UID:8941-1759363200-1759622399@sallymilner.com.au
SUMMARY:Craft Alive - Hobart
DESCRIPTION:CraftAlive is coming to Hobart.  \nKits\, supplies and equipment.\nAmple parking. Easy access. \nCraftAlive is a hands-on event\, a chance to learn from world class specialists with interactive classes on Thursday\, Friday\, Saturday.\nPlease note\, entry tickets are not day specific\, however class bookings are day and time specific. CraftAlive recommends booking ahead to secure your spot. \nCraftAlive Hobart proudly presents the Tasmanian Quilting Guild Inc annual showcase of 100+ quilts. The 2025 challenge is ‘A nod to the past’. There is also a special display of antique and vintage quilts and their stories\, as well as a student quilt exhibition for students aged K – 12. \nDue to the ever changing health advice in regards to events and gatherings in Australia\, please ensure to contact the organiser prior to the event for the latest information and advice.
URL:https://sallymilner.com.au/event/craft-alive-hobart/
LOCATION:MAC 02\, 18 Hunter Street\, Hobart\, Tasmania\, 7000\, Australia
ATTACH;FMTTYPE=image/jpeg:https://sallymilner.com.au/wp-content/uploads/2019/11/craft-alive.jpg
END:VEVENT
BEGIN:VEVENT
DTSTART;VALUE=DATE:20251016
DTEND;VALUE=DATE:20251019
DTSTAMP:20260425T001542
CREATED:20250612T042906Z
LAST-MODIFIED:20250612T043130Z
UID:8945-1760572800-1760831999@sallymilner.com.au
SUMMARY:VIC Papercraft Show
DESCRIPTION:The Victorian Papercraft Show is back! Shop with leading craft retailers including kits\, supplies and equipment.\nGet HANDS ON with Australia’s best teachers. Also featuring the exclusive Australian Tour by Art by Marlene\, with exclusive new products.  \nClasses are available to book online\, with bookings day and time specific. Entry Tickets are not day specific. CraftAlive recommends booking early to avoid disappointment. \nDue to the ever changing health advice in regards to events and gatherings in Australia\, please ensure to contact the organiser prior to the event for the latest information and advice.
URL:https://sallymilner.com.au/event/vic-papercraft-show/
LOCATION:NEW Ballarat Showgrounds Pavilion\, 6 Rose Hill Rd\, Mount Rowan\, Victoria\, 3352\, Australia
ATTACH;FMTTYPE=image/png:https://sallymilner.com.au/wp-content/uploads/2025/06/ThePaperCraftShow.png
END:VEVENT
BEGIN:VEVENT
DTSTART;VALUE=DATE:20260212
DTEND;VALUE=DATE:20260215
DTSTAMP:20260425T001542
CREATED:20210203T232530Z
LAST-MODIFIED:20251124T222903Z
UID:8614-1770854400-1771113599@sallymilner.com.au
SUMMARY:Craft Alive - Shepparton
DESCRIPTION:Kits\, supplies and equipment.\nFREE venue parking. Event access – through Gate 5 on Fryer St and Gate 6 & & on Archer Street.\nBUY your entry ticket online now.\nCraftAlive is a hands-on event – A chance to learn from world class specialists with interactive classes on Friday\, Saturday and Sunday. \nPlease note\, entry tickets are not day specific\, however class bookings are day and time specific. Craft Alive recommends booking ahead to secure your spot. \nDue to the ever changing health advice in regards to events and gatherings in Australia\, please ensure to contact the organiser prior to the event for the latest information and advice.
URL:https://sallymilner.com.au/event/craft-alive-shepparton/
LOCATION:Multi Purpose Pavillion\, Archer Street\, Shepparton\, Victoria\, 3630\, Australia
ATTACH;FMTTYPE=image/jpeg:https://sallymilner.com.au/wp-content/uploads/2019/11/craft-alive.jpg
END:VEVENT
BEGIN:VEVENT
DTSTART;VALUE=DATE:20260212
DTEND;VALUE=DATE:20260215
DTSTAMP:20260425T001542
CREATED:20251125T043023Z
LAST-MODIFIED:20251125T043023Z
UID:9004-1770854400-1771113599@sallymilner.com.au
SUMMARY:Craft Alive - Albury Wodonga
DESCRIPTION:Kits\, supplies and equipment.\nFREE venue parking. Event access – through Gate 5 on Fryer St and Gate 6 & & on Archer Street.\nBUY your entry ticket online now.\nCraftAlive is a hands-on event – A chance to learn from world class specialists with interactive classes on Friday\, Saturday and Sunday. \nPlease note\, entry tickets are not day specific\, however class bookings are day and time specific. Craft Alive recommends booking ahead to secure your spot. \nDue to the ever changing health advice in regards to events and gatherings in Australia\, please ensure to contact the organiser prior to the event for the latest information and advice.
URL:https://sallymilner.com.au/event/craft-alive-albury-wodonga/
LOCATION:Wodonga Exhibition Centre\, Hamilton Smith Drive\, Wodonga\, Victoria\, 3690\, Australia
ATTACH;FMTTYPE=image/jpeg:https://sallymilner.com.au/wp-content/uploads/2019/11/craft-alive.jpg
END:VEVENT
BEGIN:VEVENT
DTSTART;VALUE=DATE:20260305
DTEND;VALUE=DATE:20260308
DTSTAMP:20260425T001542
CREATED:20251125T043540Z
LAST-MODIFIED:20251125T043540Z
UID:9008-1772668800-1772927999@sallymilner.com.au
SUMMARY:Craft Alive - Toowoomba
DESCRIPTION:CraftAlive is back in Toowoomba for 3 big days.\nCatch the FREE SHUTTLE BUS from Water St car park.\nSHOP with leading craft retailers – kits\, supplies and equipment.\nGet HANDS ON with Australia’s best teachers.\nAll 3 days will be packed full of the latest craft supplies and trends\, featuring both experienced teachers and new designers.\nClass bookings are day and time specific. Craft Alive recommends booking ahead to secure your spot.\nPlease note\, entry tickets are not day specific. \nDue to the ever changing health advice in regards to events and gatherings in Australia\, please ensure to contact the organiser prior to the event for the latest information and advice.
URL:https://sallymilner.com.au/event/craft-alive-toowoomba/
LOCATION:The Goods Shed\, Toowoomba\, 3 Victoria Street\, Toowoomba City\, QLD\, 4350\, Australia
ATTACH;FMTTYPE=image/jpeg:https://sallymilner.com.au/wp-content/uploads/2019/11/craft-alive.jpg
END:VEVENT
BEGIN:VEVENT
DTSTART;VALUE=DATE:20260312
DTEND;VALUE=DATE:20260315
DTSTAMP:20260425T001542
CREATED:20251125T044933Z
LAST-MODIFIED:20251125T044933Z
UID:9010-1773273600-1773532799@sallymilner.com.au
SUMMARY:Craft Alive - Ballarat
DESCRIPTION:CraftAlive comes to Ballarat\, featuring both local and interstate craft experts\, the show is packed full of the latest craft supplies\, kits and equipment. \nCraftAlive  is a hands-on event. A chance to learn from world class specialists with interactive classes each day. \nVisit the CraftAlive website for ticketing information.
URL:https://sallymilner.com.au/event/craft-alive-ballarat/
LOCATION:Event Pavilion\, Ballarat Showgrounds\, 6 Rose Hill Rd\, Mount Rowan\, Victoria\, 3352\, Australia
ATTACH;FMTTYPE=image/jpeg:https://sallymilner.com.au/wp-content/uploads/2019/11/craft-alive.jpg
END:VEVENT
BEGIN:VEVENT
DTSTART;VALUE=DATE:20260409
DTEND;VALUE=DATE:20260413
DTSTAMP:20260425T001542
CREATED:20220202T005633Z
LAST-MODIFIED:20251125T045447Z
UID:8764-1775692800-1776038399@sallymilner.com.au
SUMMARY:The Australiasian Quilt Convention 2026
DESCRIPTION:Australia’s premier quilting event will be back in Melbourne in 2026 on April 9 to 12. Experience four days of quilting bliss – a magnificent quilt show\, all the latest fabrics\, patterns and machines\, and an amazing lineup of classes. Come for four days or a few hours – just be sure to be there! \nABOUT AQC\nUnder the magnificent Royal Exhibition Building dome quilters will discover the Expo\, the AQC Quilt Show and Convention Classes\, Workshops and Seminars. There’ll be an area commonly known as Auto Alley where you can test drive all the latest sewing machines – including long arm quilting machines. \nTHE EXPO\nThe AQC Expo is a quilter’s dream with dedicated quilting retailers from around Australia and overseas\, gathered together to bring visitors the latest quilting supplies. There will be new product launches\, the latest gadgets and tools\, and exciting new fabrics and patterns. \nAs well as quilting\, you’ll find ideas for textile art\, clothing\, small sewing projects\, embroidery\, handbags and soft furnishings. Anyone with a love of textiles\, will adore AQC. \nFree seminars\, make & takes and demonstrations take place every day. Come for an hour or all four days – there’s so much to see. Here is a snapshot of what is happening at the expo to help you plan your visit. \nTHE QUILT SHOW\nThe AQC Quilt Show is an unparalleled collection of quilting excellence. Each quilt has been specially selected so you can see not only the best works from around Australia\, but also the best from our convention tutors\, international exhibitions and competitions. \nTHE CONVENTION CLASSES\nUpstairs there is a convention with one-day\, two-day and four-day classes taught by the best tutors on the quilting circuit. As well as classes\, the Convention packages include entry to the expo every day\, a gourmet lunch on all class days\, morning tea boxes\, continuous tea and coffee all day\, social events\, lectures and the Gala Dinner – plus a pampering massage and a welcome sample bag. \nEDUCATION\nWander around the show and you’ll see loads of demonstrations. Plus in the Expo\, there’ll be: \nFree Seminars on all day every day.\nMake & Take mini-classes will be held each day as well.\nFree Floortalks will take place in the Quilt Show. \nVisit www.acq.com.au for further information on this exciting event! \nDue to the ever changing health advice in regards to events and gatherings in Australia\, please ensure to contact the organiser prior to the event for the latest information and advice.
URL:https://sallymilner.com.au/event/australiasian-quilt-convention/
LOCATION:Royal Exhibition Building\, 9 Nicholson Street\, Carlton\, Victoria\, 3053\, Australia
ATTACH;FMTTYPE=image/png:https://sallymilner.com.au/wp-content/uploads/2022/03/AusQuiltConvention-logo.png
END:VEVENT
BEGIN:VEVENT
DTSTART;VALUE=DATE:20260507
DTEND;VALUE=DATE:20260510
DTSTAMP:20260425T001542
CREATED:20251125T231042Z
LAST-MODIFIED:20251125T231042Z
UID:9014-1778112000-1778371199@sallymilner.com.au
SUMMARY:Craft Alive - Newcastle
DESCRIPTION:CraftAlive is coming to Newcastle. \nCraftAlive is Australia’s longest-running craft event series.\nWith both local and interstate craft talent\, the show is packed full of the latest craft supplies\, kits and equipment. \nCraftAlive is a hands-on event. A chance to learn from leading craft experts with interactive classes. A weekend dedicated to craft including patchwork\, quilting\, machine appliqué\, long arm quilting\, yarn\, papercraft\, card making\, hand embroidery\, machine embroidery\, scrapbooking\, stitchery\, cross stitch and more. \nDue to the ever changing health advice in regards to events and gatherings in Australia\, please ensure to contact the organiser prior to the event for the latest information and advice.
URL:https://sallymilner.com.au/event/craft-alive-newcastle/
LOCATION:Newcastle Racecourse\, Darling Street\, Broadmeadow\, NSW\, 2292\, Australia
ATTACH;FMTTYPE=image/jpeg:https://sallymilner.com.au/wp-content/uploads/2019/11/craft-alive.jpg
END:VEVENT
BEGIN:VEVENT
DTSTART;VALUE=DATE:20260521
DTEND;VALUE=DATE:20260525
DTSTAMP:20260425T001542
CREATED:20250612T014419Z
LAST-MODIFIED:20251125T232656Z
UID:8925-1779321600-1779667199@sallymilner.com.au
SUMMARY:Craft Alive - Canberra
DESCRIPTION:CraftAlive  is in  Canberra for 4 big days\, and proudly presents the Canberra Quilters Inc Annual Members Exhibition\, running as part of the show. \nCraftAlive features both local and interstate craft experts\, the show is packed full of the latest craft supplies\, kits and equipment.\nCraftAlive  is a hands-on event. A chance to learn from world class specialists with interactive classes on Thursday\, Friday\, Saturday and Sunday. \nClass bookings are day and time specific. CraftAlive recommends booking ahead to secure your spot.\nPlease note\, entry tickets are not day specific. \nDue to the ever changing health advice in regards to events and gatherings in Australia\, please ensure to contact the organiser prior to the event for the latest information and advice.
URL:https://sallymilner.com.au/event/craft-alive-canberra-3/
LOCATION:EPIC BUDAWANG PAVILION\, Flemington Road\, Mitchell\, ACT\, 2911\, Australia
ATTACH;FMTTYPE=image/jpeg:https://sallymilner.com.au/wp-content/uploads/2019/11/craft-alive.jpg
END:VEVENT
BEGIN:VEVENT
DTSTART;VALUE=DATE:20260528
DTEND;VALUE=DATE:20260531
DTSTAMP:20260425T001542
CREATED:20210420T050120Z
LAST-MODIFIED:20251126T000531Z
UID:8647-1779926400-1780185599@sallymilner.com.au
SUMMARY:Craft Alive - Hawkesbury
DESCRIPTION:Kits\, supplies and equipment\, CraftAlive is a hands-on event. A chance to learn from world class specialists with interactive classes on Thursday\, Friday and Saturday. \nPlease note\, entry tickets are not day specific. Class bookings (released 6 weeks prior) are day and time specific. CraftAlive recommends booking ahead to secure your spot.
URL:https://sallymilner.com.au/event/craft-alive-canberra/
LOCATION:Hawkesbury Showgrounds\, 40 Racecourse Road\, Clarendon\, NSW\, 2756\, Australia
ATTACH;FMTTYPE=image/jpeg:https://sallymilner.com.au/wp-content/uploads/2019/11/craft-alive.jpg
END:VEVENT
BEGIN:VEVENT
DTSTART;VALUE=DATE:20260611
DTEND;VALUE=DATE:20260614
DTSTAMP:20260425T001542
CREATED:20250604T054600Z
LAST-MODIFIED:20251126T001023Z
UID:8920-1781136000-1781395199@sallymilner.com.au
SUMMARY:Craft Alive - Bendigo
DESCRIPTION:CraftAlive is coming to Bendigo. \nCraftAlive is Australia’s longest-running craft event series.\nWith both local and interstate craft talent\, the show is packed full of the latest craft supplies\, kits and equipment. \nCraftAlive is a hands-on event. A chance to learn from leading craft experts with interactive classes. A weekend dedicated to craft including patchwork\, quilting\, machine appliqué\, long arm quilting\, yarn\, papercraft\, card making\, hand embroidery\, machine embroidery\, scrapbooking\, stitchery\, cross stitch and more. \nPlease note\, entry tickets are not day specific.\nClass bookings are day and time specific (released 6 weeks prior to the event) – CraftAlive recommends booking ahead to secure your spot. \nDue to the ever changing health advice in regards to events and gatherings in Australia\, please ensure to contact the organiser prior to the event for the latest information and advice.
URL:https://sallymilner.com.au/event/craft-alive-bendigo/
LOCATION:Price of Wales Showgrounds\, Holmes Road\, North Bendigo\, Victoria\, 3550\, Australia
ATTACH;FMTTYPE=image/jpeg:https://sallymilner.com.au/wp-content/uploads/2019/11/craft-alive.jpg
END:VEVENT
BEGIN:VEVENT
DTSTART;VALUE=DATE:20260715
DTEND;VALUE=DATE:20260719
DTSTAMP:20260425T001542
CREATED:20220119T021427Z
LAST-MODIFIED:20251124T221634Z
UID:8757-1784073600-1784419199@sallymilner.com.au
SUMMARY:Sydney Craft & Quilt Fair 2026
DESCRIPTION:The Craft Fair is Australia’s favourite craft event – a craft show that showcases all that is new in craft\, and provides learning opportunities as well as great shopping – and a magnificent quilt show. \nThe fair includes events\, seminars\, exhibitions and on-stand demonstrations. Don’t miss out! \nDue to the ever changing health advice in regards to events and gatherings in Australia\, please ensure to contact the organiser prior to the event for the latest information and advice.
URL:https://sallymilner.com.au/event/sydney-craft-quilt-fair-2022/
LOCATION:ICC Darling Harbour\, Sydney Showground\, Sydney Olympic Park\, Homebush\, NSW\, Australia
ATTACH;FMTTYPE=image/jpeg:https://sallymilner.com.au/wp-content/uploads/2022/01/logocandf.jpg
END:VEVENT
BEGIN:VEVENT
DTSTART;VALUE=DATE:20260909
DTEND;VALUE=DATE:20260913
DTSTAMP:20260425T001542
CREATED:20220215T040853Z
LAST-MODIFIED:20251124T222126Z
UID:8773-1788912000-1789257599@sallymilner.com.au
SUMMARY:Melbourne Craft & Quilt Fair 2026
DESCRIPTION:The Melbourne Craft & Quilt Fair will be open from 9th – 12th September 2026. If you’re into craft or would like to be\, the fair is the place to see what’s possible and to find the latest products for knitting\, crochet\, quilting\, papercraft\, weaving\, jewellery making\, sewing\, art and many more crafts. Each day there are demonstrations and learning sessions to give you crafty know-how and learn to use new products. Find new designs\, patterns\, books and materials to use in your next project – and have a great day out with people who share your passion. \nVisit www.craftfair.com.au for more information. \nDue to the ever changing health advice in regards to events and gatherings in Australia\, please ensure to contact the organiser prior to the event for the latest information and advice.
URL:https://sallymilner.com.au/event/melbourne-craft-quilt-fair-2022/
LOCATION:Melbourne Exhibition Centre\, South Wharf\, Victoria\, 2006\, Australia
ATTACH;FMTTYPE=image/jpeg:https://sallymilner.com.au/wp-content/uploads/2022/01/logocandf.jpg
END:VEVENT
BEGIN:VEVENT
DTSTART;VALUE=DATE:20261014
DTEND;VALUE=DATE:20261018
DTSTAMP:20260425T001542
CREATED:20230502T225647Z
LAST-MODIFIED:20251124T222055Z
UID:8846-1791936000-1792281599@sallymilner.com.au
SUMMARY:Brisbane Craft & Quilt Fair 2026
DESCRIPTION:The Craft Fair is Australia’s favourite craft event – a craft show that showcases all that is new in craft\, and provides learning opportunities as well as great shopping – and a magnificent quilt show. \nThe Australian Quilt Show is also running in conjunction with the fair.\nYour ticket includes both events. \nVisit www.craftfair.com.au for more information. \nDue to the ever changing health advice in regards to events and gatherings in Australia\, please ensure to contact the organiser prior to the event for the latest information and advice.
URL:https://sallymilner.com.au/event/melbourne-craft-quilt-fair-2023/
LOCATION:Brisbane Exhibition Centre\, Australia
ATTACH;FMTTYPE=image/jpeg:https://sallymilner.com.au/wp-content/uploads/2022/01/logocandf.jpg
END:VEVENT
BEGIN:VEVENT
DTSTART;VALUE=DATE:20261029
DTEND;VALUE=DATE:20261101
DTSTAMP:20260425T001542
CREATED:20250612T043406Z
LAST-MODIFIED:20251124T222325Z
UID:8951-1793232000-1793491199@sallymilner.com.au
SUMMARY:NSW Papercraft Show
DESCRIPTION:The Hawkesbury Papercraft Show is back! Shop with leading craft retailers including kits\, supplies and equipment.\nGet HANDS ON with Australia’s best teachers. Also featuring the exclusive Australian Tour by Art by Marlene\, with exclusive new products.  \nClasses are available to book online\, with bookings day and time specific. Entry Tickets are not day specific. CraftAlive recommends booking early to avoid disappointment. \nDue to the ever changing health advice in regards to events and gatherings in Australia\, please ensure to contact the organiser prior to the event for the latest information and advice.
URL:https://sallymilner.com.au/event/nsw-papercraft-show/
LOCATION:Hawkesbury Showground\, 40 Racecourse Road\, Clarendon\, New South Wales\, 2756\, Australia
ATTACH;FMTTYPE=image/png:https://sallymilner.com.au/wp-content/uploads/2025/06/ThePaperCraftShow.png
END:VEVENT
END:VCALENDAR