BEGIN:VCALENDAR
VERSION:2.0
PRODID:-//Sally Milner Publishing - ECPv6.15.11//NONSGML v1.0//EN
CALSCALE:GREGORIAN
METHOD:PUBLISH
X-WR-CALNAME:Sally Milner Publishing
X-ORIGINAL-URL:https://sallymilner.com.au
X-WR-CALDESC:Events for Sally Milner Publishing
REFRESH-INTERVAL;VALUE=DURATION:PT1H
X-Robots-Tag:noindex
X-PUBLISHED-TTL:PT1H
BEGIN:VTIMEZONE
TZID:Australia/Sydney
BEGIN:STANDARD
TZOFFSETFROM:+1100
TZOFFSETTO:+1000
TZNAME:AEST
DTSTART:20190406T160000
END:STANDARD
BEGIN:DAYLIGHT
TZOFFSETFROM:+1000
TZOFFSETTO:+1100
TZNAME:AEDT
DTSTART:20191005T160000
END:DAYLIGHT
BEGIN:STANDARD
TZOFFSETFROM:+1100
TZOFFSETTO:+1000
TZNAME:AEST
DTSTART:20200404T160000
END:STANDARD
BEGIN:DAYLIGHT
TZOFFSETFROM:+1000
TZOFFSETTO:+1100
TZNAME:AEDT
DTSTART:20201003T160000
END:DAYLIGHT
BEGIN:STANDARD
TZOFFSETFROM:+1100
TZOFFSETTO:+1000
TZNAME:AEST
DTSTART:20210403T160000
END:STANDARD
BEGIN:DAYLIGHT
TZOFFSETFROM:+1000
TZOFFSETTO:+1100
TZNAME:AEDT
DTSTART:20211002T160000
END:DAYLIGHT
BEGIN:STANDARD
TZOFFSETFROM:+1100
TZOFFSETTO:+1000
TZNAME:AEST
DTSTART:20220402T160000
END:STANDARD
BEGIN:DAYLIGHT
TZOFFSETFROM:+1000
TZOFFSETTO:+1100
TZNAME:AEDT
DTSTART:20221001T160000
END:DAYLIGHT
BEGIN:STANDARD
TZOFFSETFROM:+1100
TZOFFSETTO:+1000
TZNAME:AEST
DTSTART:20230401T160000
END:STANDARD
BEGIN:DAYLIGHT
TZOFFSETFROM:+1000
TZOFFSETTO:+1100
TZNAME:AEDT
DTSTART:20230930T160000
END:DAYLIGHT
BEGIN:STANDARD
TZOFFSETFROM:+1100
TZOFFSETTO:+1000
TZNAME:AEST
DTSTART:20240406T160000
END:STANDARD
BEGIN:DAYLIGHT
TZOFFSETFROM:+1000
TZOFFSETTO:+1100
TZNAME:AEDT
DTSTART:20241005T160000
END:DAYLIGHT
BEGIN:STANDARD
TZOFFSETFROM:+1100
TZOFFSETTO:+1000
TZNAME:AEST
DTSTART:20250405T160000
END:STANDARD
BEGIN:DAYLIGHT
TZOFFSETFROM:+1000
TZOFFSETTO:+1100
TZNAME:AEDT
DTSTART:20251004T160000
END:DAYLIGHT
END:VTIMEZONE
BEGIN:VEVENT
DTSTART;VALUE=DATE:20240523
DTEND;VALUE=DATE:20240527
DTSTAMP:20260426T023054
CREATED:20240402T043306Z
LAST-MODIFIED:20240402T043306Z
UID:8904-1716422400-1716767999@sallymilner.com.au
SUMMARY:Craft Alive - Canberra
DESCRIPTION:CraftAlive  is in  Canberra for 4 big days! \nCraftAlive Canberra proudly presents Canberra Quilters Inc Annual Members Exhibition. \nFeaturing both local and interstate craft experts\, the show is packed full of the latest craft supplies\, kits and equipment.\nA chance to learn from world class specialists with interactive classes on Thursday\, Friday\, Saturday and Sunday. \nClass bookings are day and time specific. We recommend booking ahead to secure your spot. \nPlease note\, entry tickets are not day specific – book now!
URL:https://sallymilner.com.au/event/craft-alive-canberra-2/
LOCATION:EPIC BUDAWANG PAVILION\, Flemington Road\, Mitchell\, ACT\, 2911\, Australia
ATTACH;FMTTYPE=image/jpeg:https://sallymilner.com.au/wp-content/uploads/2019/11/craft-alive.jpg
END:VEVENT
BEGIN:VEVENT
DTSTART;VALUE=DATE:20240405
DTEND;VALUE=DATE:20240408
DTSTAMP:20260426T023054
CREATED:20240402T041650Z
LAST-MODIFIED:20240402T041650Z
UID:8901-1712275200-1712534399@sallymilner.com.au
SUMMARY:Craft Alive - Wagga Wagga
DESCRIPTION:CraftAlive is coming to Wagga Wagga. \nCraftAlive is Australia’s longest-running craft event series.\nWith both local and interstate craft talent\, the show is packed full of the latest craft supplies\, kits and equipment. \nCraftAlive is a hands-on event. A chance to learn from leading craft experts with interactive classes. A weekend dedicated to craft including patchwork\, quilting\, machine appliqué\, long arm quilting\, yarn\, papercraft\, card making\, hand embroidery\, machine embroidery\, scrapbooking\, stitchery\, cross stitch and more. \nBUY your entry ticket online now! \nDue to the ever changing health advice in regards to events and gatherings in Australia\, please ensure to contact the organiser prior to the event for the latest information and advice.
URL:https://sallymilner.com.au/event/craft-alive-wagga-wagga/
LOCATION:The Range Function Centre\, 308 Copland Street\, Wagga Wagga\, NSW\, 2650\, Australia
ATTACH;FMTTYPE=image/jpeg:https://sallymilner.com.au/wp-content/uploads/2019/11/craft-alive.jpg
END:VEVENT
BEGIN:VEVENT
DTSTART;TZID=Australia/Sydney:20230915T100000
DTEND;TZID=Australia/Sydney:20230917T160000
DTSTAMP:20260426T023054
CREATED:20210914T234800Z
LAST-MODIFIED:20230719T004002Z
UID:8687-1694772000-1694966400@sallymilner.com.au
SUMMARY:Quilt NSW Exhibition 2023
DESCRIPTION:The Quilt NSW Exhibition 2023\, including the Sydney Quilt Show. \nVisit the Quilt NSW Exhibition website to check availability of tickets and classes. \nDue to the ever changing health advice in regards to events and gatherings in Australia\, please ensure to contact the organiser prior to the event for the latest information and advice.
URL:https://sallymilner.com.au/event/australian-machine-quilting-festival-2022/
LOCATION:Rosehill Gardens Racecourse\, James Ruse Drive\, Rosehill\, NSW\, 2142\, Australia
ATTACH;FMTTYPE=image/jpeg:https://sallymilner.com.au/wp-content/uploads/2023/07/Quilt-NSW.jpg
END:VEVENT
BEGIN:VEVENT
DTSTART;VALUE=DATE:20230914
DTEND;VALUE=DATE:20230917
DTSTAMP:20260426T023054
CREATED:20230502T225834Z
LAST-MODIFIED:20230502T225927Z
UID:8848-1694649600-1694908799@sallymilner.com.au
SUMMARY:Canberra Craft & Quilt Fair 2023
DESCRIPTION:The Craft Fair is Australia’s favourite craft event – a craft show that showcases all that is new in craft\, and provides learning opportunities as well as great shopping – and a magnificent quilt show. \nThe Australian Quilt Show is also running in conjunction with the fair.\nYour ticket includes both events. \nVisit https://www.craftfair.com.au/wp/Canberra/ for more information. \nDue to the ever changing health advice in regards to events and gatherings in Australia\, please ensure to contact the organiser prior to the event for the latest information and advice.
URL:https://sallymilner.com.au/event/canberra-craft-quilt-fair-2023/
LOCATION:Exhibition Park\, Canberra\, Corner of Flemington Road and Northbourne Avenue\, Mitchell\, ACT\, 2911\, Australia
ATTACH;FMTTYPE=image/png:https://sallymilner.com.au/wp-content/uploads/2022/03/craftandquiltfair-logo.png
END:VEVENT
BEGIN:VEVENT
DTSTART;VALUE=DATE:20230126
DTEND;VALUE=DATE:20230129
DTSTAMP:20260426T023054
CREATED:20211214T220641Z
LAST-MODIFIED:20230124T062251Z
UID:8746-1674691200-1674950399@sallymilner.com.au
SUMMARY:The Great International Craft Show (Online)
DESCRIPTION:The original online craft event. \nThe next online event\, The Great International Craft Show (GICS)\, Series 16: Backyard BBQ party runs 26th – 28th January 2023.  \nEVERYONE is invited to our online party. Put on your thongs\, bbq apron and best Hawaiian shirt and join in the fun. Whether on holiday\, at the beach or at home…all of your favourite craft retailers and teachers will be online for GICS Series 16.  \nDoors open 9.30am AEST (Melbourne time). \nThe Great International Craft Show is an interactive online experience. Just like a physical event\, vendors ‘man their stands’ running demonstrations\, event offers and with welcoming chatter. \nAttending an online event is very similar to a physical event. The main difference\, the Shopping Hall is online instead of in-person. \nEvent features and locations: \nShopping hall –  gics.craftalive.com.au \nBrowse the Shopping Hall in a similar way you would walk around a physical show. Click on the retailer direct links and shop direct with your favourite retailers featuring supplies\, kits and equipment. \nLive feed –  www.facebook.com/CraftAlive \nHourly live updates\, vendors online to chat\, demos and event news. \nClassrooms – gics.craftalive.com.au/classroom \nVideo Library – gics.craftalive.com.au/classroom \n24/7 access to replay classes from the entire online craft event series. \nWorking together to ensure a strong Sewing and Craft Community.
URL:https://sallymilner.com.au/event/the-great-international-craft-show-online-2/
LOCATION:NSW
ATTACH;FMTTYPE=image/jpeg:https://sallymilner.com.au/wp-content/uploads/2021/04/131330289_4874022442640351_1160756616172573672_n.jpg
END:VEVENT
BEGIN:VEVENT
DTSTART;VALUE=DATE:20221110
DTEND;VALUE=DATE:20221114
DTSTAMP:20260426T023054
CREATED:20220816T224726Z
LAST-MODIFIED:20220816T224726Z
UID:8804-1668038400-1668383999@sallymilner.com.au
SUMMARY:Australian Machine Quilting Festival
DESCRIPTION:The Australian Machine Quilting Festival is dedicated to providing inspiration\, education and encouragement to all machine quilters that own a longarm\, midarm and/or a domestic sewing machine. \nCome & join us in our venture to grow and learn about machine quilting! \n2022 is the sixth Australian Machine Quilting Festival. We continue to grow and evolve\, but will always have education as a priority along with meeting many new friends and quilters. \nWe are looking forward to AMQ Festival 2022 with great anticipation and hope to see both past attendees and new ones as well. We are working very hard to make this an incredible event and encourage quilters of all disciplines to come along\, be inspired and embrace all that this fantastic industry has to offer. \nDue to the ever changing health advice in regards to events and gatherings in Australia\, please ensure to contact the organiser prior to the event for the latest information and advice.
URL:https://sallymilner.com.au/event/australian-machine-quilting-festival/
LOCATION:Adelaide Convention Centre\, North Terrace\, Adelaide\, South Australia\, 5000\, Australia
ATTACH;FMTTYPE=image/jpeg:https://sallymilner.com.au/wp-content/uploads/2021/09/AMQF-logo-e1645496609866.jpg
END:VEVENT
BEGIN:VEVENT
DTSTART;VALUE=DATE:20221012
DTEND;VALUE=DATE:20221017
DTSTAMP:20260426T023054
CREATED:20220215T041924Z
LAST-MODIFIED:20220315T224150Z
UID:8779-1665532800-1665964799@sallymilner.com.au
SUMMARY:Brisbane Craft & Quilt Fair 2022
DESCRIPTION:The Brisbane Craft & Quilt Fair will be open from 12th to 16th October 2022. If you’re into craft or would like to be\, the fair is the place to see what’s possible and to find the latest products for knitting\, crochet\, quilting\, papercraft\, weaving\, jewellery making\, sewing\, art and many more crafts. Each day there are demonstrations and learning sessions to give you crafty know-how and learn to use new products. Find new designs\, patterns\, books and materials to use in your next project – and have a great day out with people who share your passion. \nVisit www.craftfair.com.au/wp/Brisbane/ for more information. \nDue to the ever changing health advice in regards to events and gatherings in Australia\, please ensure to contact the organiser prior to the event for the latest information and advice.
URL:https://sallymilner.com.au/event/brisbane-craft-quilt-fair-2022/
LOCATION:Brisbane Convention Centre\, Glenelg Street\, South Brisbane\, Queensland\, 4101\, Australia
ATTACH;FMTTYPE=image/png:https://sallymilner.com.au/wp-content/uploads/2022/03/craftandquiltfair-logo.png
END:VEVENT
BEGIN:VEVENT
DTSTART;VALUE=DATE:20220922
DTEND;VALUE=DATE:20220926
DTSTAMP:20260426T023054
CREATED:20220215T041442Z
LAST-MODIFIED:20220315T224432Z
UID:8776-1663804800-1664150399@sallymilner.com.au
SUMMARY:Canberra Craft & Quilt Fair 2022
DESCRIPTION:The Canberra Craft & Quilt Fair will be open from 22nd – 25th September 2022. If you’re into craft or would like to be\, the fair is the place to see what’s possible and to find the latest products for knitting\, crochet\, quilting\, papercraft\, weaving\, jewellery making\, sewing\, art and many more crafts. Each day there are demonstrations and learning sessions to give you crafty know-how and learn to use new products. Find new designs\, patterns\, books and materials to use in your next project – and have a great day out with people who share your passion. \nVisit www.craftfair.com.au/wp/Canberra/ for more information. \nDue to the ever changing health advice in regards to events and gatherings in Australia\, please ensure to contact the organiser prior to the event for the latest information and advice.
URL:https://sallymilner.com.au/event/canberra-craft-quilt-fair-2022/
LOCATION:Exhibition Park\, Canberra\, Corner of Flemington Road and Northbourne Avenue\, Mitchell\, ACT\, 2911\, Australia
ATTACH;FMTTYPE=image/png:https://sallymilner.com.au/wp-content/uploads/2022/03/craftandquiltfair-logo.png
END:VEVENT
BEGIN:VEVENT
DTSTART;VALUE=DATE:20220225
DTEND;VALUE=DATE:20220228
DTSTAMP:20260426T023054
CREATED:20210420T042839Z
LAST-MODIFIED:20210803T021145Z
UID:8637-1645747200-1646006399@sallymilner.com.au
SUMMARY:The Australasian Embroidery Convention 2022
DESCRIPTION:Where passion meets creativity! \nExperience three days of stitching bliss with traditional and modern classes focusing on embroidery techniques. The event will include a dedicated marketplace of retailers selling embroidery supplies for both hand and machine embroidery\, competitions to enter and displays of work. Plus our three day class program will include gorgeous projects to stitch guided by top Australian tutors. A variety of class passes can be purchased each with a series of cost-effective inclusions. If you are booking classes you will not need an entry ticket – entry to the Expo is included within your class pass. \nThe Australasian Embroidery Convention is an annual event held in the Plaza Terrace Room – located on the Plaza level\, upstairs from the main exhibition halls\, in the Brisbane Convention Centre at South Bank. \nDue to the ever changing health advice in regards to events and gatherings in Australia\, please ensure to contact the organiser prior to the event for the latest information and advice.
URL:https://sallymilner.com.au/event/the-australasian-embroidery-convention-2021/
LOCATION:Brisbane Convention Centre\, Glenelg Street\, South Brisbane\, Queensland\, 4101\, Australia
ATTACH;FMTTYPE=image/png:https://sallymilner.com.au/wp-content/uploads/2021/04/logo-intostitches-1-e1618892973672.png
ORGANIZER;CN="Expertise Events":MAILTO:stitches@expertiseevents.com.au
END:VEVENT
BEGIN:VEVENT
DTSTART;VALUE=DATE:20210916
DTEND;VALUE=DATE:20210920
DTSTAMP:20260426T023054
CREATED:20210914T233631Z
LAST-MODIFIED:20210914T233631Z
UID:8684-1631750400-1632095999@sallymilner.com.au
SUMMARY:The Great International Craft Show (Online)
DESCRIPTION:The original online craft event. \nThe next online event\, The Great International Craft Show (GICS)\, Series 11 ‘Christmas Shopping & Projects’ takes place: Thursday 16th – Sunday 19th September 2021.  \nDoors open 9.30am AEST (Sydney time). \nThe Great International Craft Show is an interactive online experience. Just like a physical event\, vendors ‘man their stands’ running demonstrations\, event offers and with welcoming chatter. \nAttending an online event is very similar to a physical event. The main difference\, the Shopping Hall is online instead of in-person. \nEvent features and locations: \nShopping hall –  gics.craftalive.com.au \nBrowse the Shopping Hall in a similar way you would walk around a physical show. Click on the retailer direct links and shop direct with your favourite retailers featuring supplies\, kits and equipment. \nLive feed –  www.facebook.com/CraftAlive \nHourly live updates\, vendors online to chat\, demos and event news. \nClassrooms – gics.craftalive.com.au/classroom \nThe schedule will be available to download 1 week prior to the event but teachers will be announced in advance. Keep up to date on www.facebook.com/CraftAlive \nNo need to ‘book’ classes. Subscribe to the classroom to access all new classes and the entire online video library. No layers\, additional costs or hidden surprises. Subscribe now. \nFor the first time\, the GICS-Classroom is FREE. Get hands on with free access to classes during the event thanks to Making It Australia. \nSimply click here\, hit subscribe and select ‘free access’: gics.craftalive.au/classroom\nThere are 3 online classrooms running during GICS Series 11. You will not require a subscription to access the classrooms during the event. \nDownload the schedule now. \nVideo Library – gics.craftalive.com.au/classroom \nUnlimited access to the largest and most diverse online craft video library world-wide. Technique and project based classes for beginner to advance. \nNo time limits. Class are available 24/7 and remain in the library ongoing. \nWorking together to ensure a strong Sewing and Craft Community.
URL:https://sallymilner.com.au/event/the-great-international-craft-show-online/
LOCATION:NSW
ATTACH;FMTTYPE=image/jpeg:https://sallymilner.com.au/wp-content/uploads/2021/04/131330289_4874022442640351_1160756616172573672_n.jpg
END:VEVENT
BEGIN:VEVENT
DTSTART;VALUE=DATE:20210819
DTEND;VALUE=DATE:20210823
DTSTAMP:20260426T023054
CREATED:20210427T235713Z
LAST-MODIFIED:20210803T020728Z
UID:8659-1629331200-1629676799@sallymilner.com.au
SUMMARY:Australian Quilt Convention
DESCRIPTION:PLEASE NOTE DATES FOR 2021 ARE CURRENTLY UNDER REVIEW \nSee the best quilts from around Australia\, together with amazing international works. Learn new techniques in our convention classes with expert tutors. Spend four days immersing yourself in everything the Australasian Quilt Convention has to offer. \n2021 will be a celebration of all things Australian. \nABOUT AQC\nUnder the magnificent Royal Exhibition Building dome quilters will discover the Expo\, the AQC Quilt Show and Convention Classes\, Workshops and Seminars. There’ll be an area commonly known as Auto Alley where you can test drive all the latest sewing machines – including long arm quilting machines. \nTHE EXPO\nThe AQC Expo is a quilter’s dream. Around 100 dedicated quilting retailers will be gathered together to bring visitors the latest quilting supplies. There will be new product launches\, the latest gadgets and tools\, and exciting new fabrics and patterns. \nAs well as quilting\, you’ll find ideas for textile art\, clothing\, small sewing projects\, embroidery\, handbags and soft furnishings. Anyone with a love of textiles\, will adore AQC. \nFree seminars\, make & takes and demonstrations take place every day. Come for an hour or all four days – there’s so much to see. Here is a snapshot of what is happening at the expo to help you plan your visit. \nTHE QUILT SHOW\nThe AQC Quilt Show is an unparalleled collection of quilting excellence. Each quilt has been specially selected so you can see not only the best works from around Australia\, but also the best from our convention tutors\, international exhibitions and competitions. \nTHE CONVENTION CLASSES\nUpstairs there is a convention with one-day\, two-day and four-day classes taught by top international and Australian tutors. As well as classes\, the Convention packages include entry to the expo every day\, a gourmet lunch on all class days\, morning tea boxes\, continuous tea and coffee all day\, social events\, lectures and the Gala Dinner – plus a pampering massage and a welcome sample bag. \nEDUCATION\nWander around the show and you’ll see loads of demonstrations. Plus in the Expo\, there’ll be: \nFree Seminars on all day every day.\nMake & Take mini-classes will be held each day as well.\nFree Floortalks will take place in the Quilt Show. \nSPECIAL GUESTS\nInternational quilters and those from around Australia flock to AQC to shop\, see the quilts and to network\, to celebrate together and to inspire each other. You’ll get so many fresh ideas and meet the quilters behind the quilts. Come to AQC for a few hours or a few days and indulge your passion for quilting. \nATTENDING AQC\nBuy tickets at the door\, or online\, or go for the full AQC experience and book yourself in as a convention delegate. Four-day Gold Passes and Two-day Passes are available and include all aspects of the event. \nDue to the ever changing health advice in regards to events and gatherings in Australia\, please ensure to contact the organiser prior to the event for the latest information and advice.
URL:https://sallymilner.com.au/event/australian-quilt-convention/
LOCATION:Royal Exhibition Building\, 9 Nicholson Street\, Carlton\, Victoria\, 3053\, Australia
END:VEVENT
BEGIN:VEVENT
DTSTART;VALUE=DATE:20210704
DTEND;VALUE=DATE:20210718
DTSTAMP:20260426T023054
CREATED:20200303T051854Z
LAST-MODIFIED:20210203T231716Z
UID:7762-1625356800-1626566399@sallymilner.com.au
SUMMARY:Lady Anne's Needlework Festival
DESCRIPTION:ANNOUNCEMENT: Due to COVID-19\, the Lady Anne’s Festival will no longer take place as planned in Appleby-in-Westmorland in 2021. A physical event is now being planned for July 2022 and online experiences will replace our 2021 event. More information will be published in the coming months and updates to this page will be made. Please visit https://www.crewelwork.com/pages/needlework-tours for more updates and further information. \nThe festival is a gathering of top international embroidery tutors. 1\, 2 and 3 day workshops will be available featuring a vast array of exclusive designs\, and you are able to build your own itinerary of workshops\, lectures and excursions. \nDid you know – Jane Nicholas’s embroidered ‘Border of Shakespeare’s Flowers’ was inspired by the painted border of a letter written by Lady Anne Clifford to her father in 1598. The border contains fourteen assorted flowers and fruits popular at the time and can be found in her book ‘Shakespeare’s Flowers in Stumpwork’.
URL:https://sallymilner.com.au/event/lady-annes-needlework-festival/
LOCATION:NSW
ATTACH;FMTTYPE=image/jpeg:https://sallymilner.com.au/wp-content/uploads/2020/03/Festival_logo_480x480.jpg
END:VEVENT
BEGIN:VEVENT
DTSTART;VALUE=DATE:20210430
DTEND;VALUE=DATE:20210503
DTSTAMP:20260426T023054
CREATED:20210427T233749Z
LAST-MODIFIED:20210428T000015Z
UID:8654-1619740800-1619999999@sallymilner.com.au
SUMMARY:Sewing\, Stitching and Hand Craft Show
DESCRIPTION:SA’s Biggest Sewing\, Stitching & Hand Craft Show will once again feature the Quilters Guild of SA Festival of Quilts. \nThis exciting interactive event is for people who love quilting\, sewing & making their own crafts. Once you get the quilting & crafting bug there will be no stopping you at this years show\, it’s the ideal place to indulge your passion! Meet the experts\, discover new ideas\, find new products and enjoy the workshops. \nThe show is the perfect place to see the latest ideas\, get professional tips and learn new techniques. You will be surprised how many skills you can transfer between crafts. \nFor more information head to their website.
URL:https://sallymilner.com.au/event/sewing-stitching-and-hand-craft-show/
LOCATION:Adelaide Showground\, Jubilee Pavilion\, Hamilton Bvd\, Wayville\, South Australia\, 5034\, Australia
ATTACH;FMTTYPE=image/png:https://sallymilner.com.au/wp-content/uploads/2021/04/Sewing-Logo-NEW2020-e1619566718853.png
END:VEVENT
BEGIN:VEVENT
DTSTART;VALUE=DATE:20210429
DTEND;VALUE=DATE:20210503
DTSTAMP:20260426T023054
CREATED:20210420T045153Z
LAST-MODIFIED:20210420T045153Z
UID:8643-1619654400-1619999999@sallymilner.com.au
SUMMARY:The Great International Craft Show
DESCRIPTION:The original online craft event just got even bigger… \nAfter 7 successful online events in 2020\, The Great Australian Craft Show has been renamed for 2021. The same interactive event experience. The same website\, classrooms and social media pages. All of the vendors and tutors you love from 2020 plus more new faces from all around the world. \nThe next online event\, The Great International Craft Show (GICS)\, Series 9 takes place: Thur 29 April – Sun 2 May 2021 \nThe Great International Craft Show is an interactive experience. \nJust like a physical event\, vendors ‘man their stands’ running demonstrations\, event offers and with welcoming chatter. \nEvent features and locations: \nShopping hall – over 140 retailers featuring supplies\, kits and equipment (gics.craftalive.com.au) \nLive feed – show specials\, demos\, and all vendors online to chat (www.facebook.com/CraftAlive) \nClassrooms – featuring a huge range of classes across multiple classrooms (subscribe now here: gics.craftalive.com.au/classroom/) \nVideo Library – 24/7 access to replay classes from the entire online craft event series. (subscribe now here: gics.craftalive.com.au/classroom/) \nWorking together to ensure a strong Sewing and Craft Community.
URL:https://sallymilner.com.au/event/the-great-international-craft-show-2/
LOCATION:NSW
ATTACH;FMTTYPE=image/jpeg:https://sallymilner.com.au/wp-content/uploads/2021/04/131330289_4874022442640351_1160756616172573672_n.jpg
END:VEVENT
BEGIN:VEVENT
DTSTART;TZID=Australia/Sydney:20210219T090000
DTEND;TZID=Australia/Sydney:20210221T160000
DTSTAMP:20260426T023054
CREATED:20210203T233105Z
LAST-MODIFIED:20210203T233140Z
UID:8618-1613725200-1613923200@sallymilner.com.au
SUMMARY:Craft Alive - Gold Coast
DESCRIPTION:CraftAlive is at the Gold Coast for 3 big days – for the first time ever! \nFeaturing both local and interstate craft experts\, the show is packed full of the latest craft supplies\, kits and equipment. \nCraftAlive is a hands-on event. A chance to learn from world class specialists with interactive classes on Friday\, Saturday and Sunday. \n*pre-purchase tickets online for social distancing & express guaranteed entry
URL:https://sallymilner.com.au/event/craft-alive-gold-coast/
LOCATION:Gold Coast Turf Club Event Centre\, Corner of Jim Griffiths Way & Racecourse Drive\, Bundall\, Queensland\, 4217\, Australia
ATTACH;FMTTYPE=image/jpeg:https://sallymilner.com.au/wp-content/uploads/2019/11/craft-alive.jpg
END:VEVENT
BEGIN:VEVENT
DTSTART;TZID=Australia/Sydney:20210204T080000
DTEND;TZID=Australia/Sydney:20210207T170000
DTSTAMP:20260426T023054
CREATED:20210203T235903Z
LAST-MODIFIED:20210203T235903Z
UID:8624-1612425600-1612717200@sallymilner.com.au
SUMMARY:The Great International Craft Show
DESCRIPTION:The original online craft event just got even bigger… \nAfter 7 successful online events in 2020\, The Great Australian Craft Show has been renamed for 2021. The same interactive event experience. The same website\, classrooms and social media pages. All of the vendors and tutors you love from 2020 plus more new faces from all around the world. \nThe Great International Craft Show is an interactive experience. \nJust like a physical event\, vendors ‘man their stands’ running demonstrations\, event offers and with welcoming chatter. \nEvent features and locations: \nShopping hall – over 140 retailers featuring supplies\, kits and equipment (gics.craftalive.com.au) \nLive feed – show specials\, demos\, and all vendors online to chat (www.facebook.com/CraftAlive) \nClassrooms – featuring a huge range of classes across multiple classrooms (subscribe now here: gics.craftalive.com.au/classroom/) \nVideo Library – 24/7 access to replay classes from the entire online craft event series. (subscribe now here: gics.craftalive.com.au/classroom/) \nWorking together to ensure a strong Sewing and Craft Community.
URL:https://sallymilner.com.au/event/the-great-international-craft-show/
LOCATION:ONLINE
ATTACH;FMTTYPE=image/png:https://sallymilner.com.au/wp-content/uploads/2021/02/Screen-Shot-2021-02-04-at-10.55.06-am.png
END:VEVENT
BEGIN:VEVENT
DTSTART;VALUE=DATE:20210130
DTEND;VALUE=DATE:20210305
DTSTAMP:20260426T023054
CREATED:20210204T001547Z
LAST-MODIFIED:20210204T001547Z
UID:8629-1611964800-1614902399@sallymilner.com.au
SUMMARY:Festival of Lace
DESCRIPTION:
URL:https://sallymilner.com.au/event/festival-of-lace/
LOCATION:Gallery 76\, 76 Queen Street\, Concord West\, New South Wales\, 2138\, Australia
ATTACH;FMTTYPE=image/jpeg:https://sallymilner.com.au/wp-content/uploads/2021/02/145793381_5037602796311307_6925435503411025953_o.jpg
END:VEVENT
BEGIN:VEVENT
DTSTART;VALUE=DATE:20200930
DTEND;VALUE=DATE:20201008
DTSTAMP:20260426T023054
CREATED:20191117T034711Z
LAST-MODIFIED:20200303T051311Z
UID:6833-1601424000-1602115199@sallymilner.com.au
SUMMARY:Beating Around The Bush - International Needlework Convention
DESCRIPTION:Beating Around the Bush is a biennial international needlework convention hosted by Inspirations Studios. It’s all about stitching together\, learning together and laughing together. It’s that simple. And that’s what makes it so good! \nThe convention features many exciting and talented tutors including: \nChristine P Bishop\nJenny McWhinney\nJane Nicholas \nFor more information and to download a free catalogue visit the Beating Around The Bush website.
URL:https://sallymilner.com.au/event/australasian-embroidery-convention-21st-23rd-february-2020/
LOCATION:NSW
ATTACH;FMTTYPE=image/jpeg:https://sallymilner.com.au/wp-content/uploads/2020/03/BATB-2020-Logo-v1-copy-min.jpg
END:VEVENT
END:VCALENDAR